BEGIN:VCALENDAR
VERSION:2.0
PRODID:Imitheme.com
BEGIN:VEVENT
UID:20260422T173158-871603001
DTSTAMP;TZID=UTC:1776879118
DTSTART;TZID=America/Los_Angeles:20250805T000000
DTEND;TZID=America/Los_Angeles:20250805T000000
SUMMARY:The Benefit of Teller Automation in Branch Operations (5-6 August 2025)
LOCATION:
DESCRIPTION: Seminar & Webinar The Benefit of Teller Automation in Branch Operations Join us for an exclusive seminar and webinar designed for banking professionals ready to transform their Teller operations through automation. Learn the benefits of improving Teller operation with our solution: - Simplifying cash handling and business processes - Improving accuracy and transaction speed - Minimizing fraud risks and reducing operational costs - Accelerating their branch transformation journey Whether you\'re planning your next innovation leap or exploring ways to enhance operational efficiency, this session offers valuable insights and real-world use cases to help you get started. If you believe this topic would be of interest and beneficial to your colleagues, we would greatly appreciate you sharing this invitation with them. Register Now Reserve your spot for this exclusive event — limited seats available! Date 5-6 August, 2025 Time Multiple Sessions Venue PT Murni HQ See in Maps Format Hybrid (Online & Offline) https://webinar.murni.co.id/event/the-benefit-of-teller-automation-in-branch-operations-august-2025/
URL:https://webinar.murni.co.id/event/the-benefit-of-teller-automation-in-branch-operations-august-2025/
END:VEVENT
END:VCALENDAR
