BEGIN:VCALENDAR
VERSION:2.0
PRODID:Imitheme.com 
BEGIN:VEVENT
UID:20260425T200820684795226
DTSTAMP;TZID=UTC:2026-04-25 20:08:20
DTSTART;TZID=America/Los_Angeles:20260303T000000
DTEND;TZID=America/Los_Angeles:20260303T000000
SUMMARY:Multi-Denomination Cash Deposit Machine (CDM).- 13 Maret 2026
LOCATION:
DESCRIPTION:Seminar & Webinar How to Increase Sales Order and Boost F&B Revenue with Digital Menu Board. Who Should Attend Best for Directors, GMs, Heads, Managers, Team Leads in Operations, Branch Banking, Transformation, Risk, Internal Control, IT, and Procurement. What You’ll Gain - Highlight best-sellers, bundles, and add-ons to grow average order value - Push promos and price updates instantly across all outlets - Reduce pricing errors that cost you revenue - Turn every screen into an active upselling tool FAQ Is this event free? Yes, by registration and confirmation (limited slots). Can I switch between online/offline after registering? Yes, subject to seat availability. Our team will confirm with you. Will there be a product demo? Yes, there will be a live demo + Q&A in each session. Who is PT Murni? PT Murni is an ISO 9001:2015 certified solution provider with 33+ years of experience, 700+ staff, and 6 branches + 100+ service points nationwide, supporting enterprise-grade implementation and after-sales coverage across Indonesia. PT Murni is also a pioneer and market leader of TCR technology in Indonesia, with over 2,000 units implemented across 650+ branches nationwide. Yes, by registration and confirmation (limited slots). Yes, subject to seat availability. Our team will confirm with you. Yes, there will be a live demo + Q&A in each session. PT Murni is an ISO 9001:2015 certified solution provider with 33+ years of experience, 700+ staff, and 6 branches + 100+ service points nationwide, supporting enterprise-grade implementation and after-sales coverage across Indonesia. PT Murni is also a pioneer and market leader of TCR technology in Indonesia, with over 2,000 units implemented across 650+ branches nationwide. Register Now Reserve your spot for this exclusive event — limited seats available! Date 13 March 2026 Time Session 1: 09.30-11.30 Session 2: 14:00-16.00 Venue PT Murni HQ – Jakarta Barat Format Hybrid (Online & Offline) See in Maps 
URL:https://webinar.murni.co.id/event/multi-denomination-cash-deposit-machine-cdm-13-maret-2026/
END:VEVENT
END:VCALENDAR
